BEGIN:VCALENDAR
VERSION:2.0
PRODID:-//Plone.org//NONSGML plone.app.event//EN
X-WR-TIMEZONE:Europe/Berlin
BEGIN:VEVENT
SUMMARY:Weihnachten vor der Kirche
DTSTART;VALUE=DATE:20251224
DTEND;VALUE=DATE:20251225
DTSTAMP;VALUE=DATE-TIME:20260424T174347Z
UID:aee59238fff04f12abc5caf587fab34b@localhost:8080
CREATED;VALUE=DATE-TIME:20251022T094417Z
DESCRIPTION:Wir spielen am Kulturhaus Weihnachtslieder ab wenn die ersten 
 zur Kirche kommen bis die Glocken läuten.\n\nZeit noch offen
LAST-MODIFIED;VALUE=DATE-TIME:20251022T094424Z
LOCATION:Plessa\, Platz des Friedens 1
URL:https://www.orchester-plessa.de/de/dienstplan/weihnachten-vor-der-kirc
 he-1
END:VEVENT
END:VCALENDAR
