BEGIN:VCALENDAR
VERSION:2.0
PRODID:-//Plone.org//NONSGML plone.app.event//EN
X-WR-TIMEZONE:Europe/Berlin
BEGIN:VEVENT
SUMMARY:Lampionumzug Kita Lindenhäuschen
DTSTART;TZID=Europe/Berlin;VALUE=DATE-TIME:20251107T163000
DTEND;TZID=Europe/Berlin;VALUE=DATE-TIME:20251107T173000
DTSTAMP;VALUE=DATE-TIME:20260424T175922Z
UID:a52b4663a68c4b6992c788fd7c7af01a@localhost:8080
CREATED;VALUE=DATE-TIME:20251022T094202Z
DESCRIPTION:Lampionumzug Kita Lindenhäuschen in Elsterwerda. \n\nZu laufe
 nde Strecke ca. 1 km\, geschätzte Dauer ca. 1 Stunde.\n\nWir spielen aus 
 den Martinsmarschbüchern.
LAST-MODIFIED;VALUE=DATE-TIME:20251022T094216Z
LOCATION:Elsterwerda\, Lindenweg 15
URL:https://www.orchester-plessa.de/de/dienstplan/lampionumzug-kita-linden
 haeuschen
END:VEVENT
BEGIN:VTIMEZONE
TZID:Europe/Berlin
X-LIC-LOCATION:Europe/Berlin
BEGIN:STANDARD
DTSTART;VALUE=DATE-TIME:20251026T020000
TZNAME:CET
TZOFFSETFROM:+0200
TZOFFSETTO:+0100
END:STANDARD
END:VTIMEZONE
END:VCALENDAR
