BEGIN:VCALENDAR
VERSION:2.0
PRODID:-//Plone.org//NONSGML plone.app.event//EN
X-WR-TIMEZONE:Europe/Berlin
BEGIN:VEVENT
SUMMARY:Karnevalsumzug
DTSTART;VALUE=DATE:20260214
DTEND;VALUE=DATE:20260215
DTSTAMP;VALUE=DATE-TIME:20260424T175510Z
UID:69f99d95e8e049b4b893def742b9adf2@localhost:8080
CREATED;VALUE=DATE-TIME:20251022T094747Z
DESCRIPTION:Karnevalsumzug in Plessa
LAST-MODIFIED;VALUE=DATE-TIME:20251022T094754Z
LOCATION:Plessa
URL:https://www.orchester-plessa.de/de/dienstplan/karnevalsumzug-2
END:VEVENT
END:VCALENDAR
