BEGIN:VCALENDAR
VERSION:2.0
PRODID:-//Plone.org//NONSGML plone.app.event//EN
X-WR-TIMEZONE:Europe/Berlin
BEGIN:VEVENT
SUMMARY:Glühweinfest im Bürger-Park
DTSTART;VALUE=DATE:20251227
DTEND;VALUE=DATE:20251228
DTSTAMP;VALUE=DATE-TIME:20260424T180235Z
UID:8b6a488da25a402f894a4736951afe3f@localhost:8080
CREATED;VALUE=DATE-TIME:20251022T094607Z
DESCRIPTION:Uhrzeit noch nicht genau bekannt\n\nEs handelt sich um eine of
 fizielle Veranstaltung der Gemeinde\, keine vereinsinterne!
LAST-MODIFIED;VALUE=DATE-TIME:20251022T094614Z
LOCATION:Plessa\, Laasemühlenring
URL:https://www.orchester-plessa.de/de/dienstplan/gluehweinfest-im-buerger
 -park
END:VEVENT
END:VCALENDAR
